BEGIN:VCALENDAR
VERSION:2.0
PRODID:-//wp-events-plugin.com//7.2.3.1//EN
TZID:America/Los_Angeles
X-WR-TIMEZONE:America/Los_Angeles
BEGIN:VEVENT
UID:1586@theexiles.org
DTSTART;TZID=America/Los_Angeles:20251207T160000
DTEND;TZID=America/Los_Angeles:20251207T180000
DTSTAMP:20251127T213226Z
URL:https://theexiles.org/events/orientation-bdsm-101-3-2025-12-07/
SUMMARY:Orientation: BDSM 101
DESCRIPTION:Fun intro to BDSM: Terminology\, play parties\, toys\, and more
 !\nThis class is a requirement to become an Exiles member.
ATTACH;FMTTYPE=image/jpeg:https://theexiles.org/wp-content/uploads/Orienta
 tion-alt-1-Instagram.png
CATEGORIES:Orientation
LOCATION:Zoom\, n/a\, virtual\, United States
X-APPLE-STRUCTURED-LOCATION;VALUE=URI;X-ADDRESS=n/a\, virtual\, United Stat
 es;X-APPLE-RADIUS=100;X-TITLE=Zoom:geo:0,0
END:VEVENT
BEGIN:VTIMEZONE
TZID:America/Los_Angeles
X-LIC-LOCATION:America/Los_Angeles
BEGIN:STANDARD
DTSTART:20251102T010000
TZOFFSETFROM:-0700
TZOFFSETTO:-0800
TZNAME:PST
END:STANDARD
END:VTIMEZONE
END:VCALENDAR