BEGIN:VCALENDAR
VERSION:2.0
PRODID:-//wp-events-plugin.com//7.2.3.1//EN
TZID:America/Los_Angeles
X-WR-TIMEZONE:America/Los_Angeles
BEGIN:VEVENT
UID:899@theexiles.org
DTSTART;TZID=America/Los_Angeles:20211205T140000
DTEND;TZID=America/Los_Angeles:20211205T160000
DTSTAMP:20211205T202654Z
URL:https://theexiles.org/events/orientation-bdsm-101-2021-12-05/
SUMMARY:Orientation: BDSM 101
DESCRIPTION:The Exiles is an inclusive and sex positive space for all women
 \, intersex\, nonbinary\, genderqueer\, gender variant\, or gender-nonconf
 orming.&nbsp\; If you do not identify as such\, please respect the space a
 nd do not attend the event.\n\nFun intro to BDSM: Terminology\, play parti
 es\, toys\, and more!\n\nThis class is a requirement to become an Exiles m
 ember.\n\nThis is an interactive class. The material is presented in skit 
 format. This is not a class to learn how to do everything! This is a BDSM 
 101 class. Class provides basic safety and community information.\n\nThis 
 is a virtual event\, click the link below to purchase tickets.\n\nREGISTER
 \n\nCost: is $10 for non-members (and receive a pass to a future program)\
 ; *free* for members. Open to those 18+.\n\nIf you are unable to attend du
 e to financial hardship but still want to attend this event\, please conta
 ct cocos@theexiles.org.\n\nConcerned about anonymity? Click here for advic
 e&nbsp\;\n\n&nbsp\;
CATEGORIES:Orientation
LOCATION:Zoom\, n/a\, virtual\, United States
X-APPLE-STRUCTURED-LOCATION;VALUE=URI;X-ADDRESS=n/a\, virtual\, United Stat
 es;X-APPLE-RADIUS=100;X-TITLE=Zoom:geo:0,0
END:VEVENT
BEGIN:VTIMEZONE
TZID:America/Los_Angeles
X-LIC-LOCATION:America/Los_Angeles
BEGIN:STANDARD
DTSTART:20211107T010000
TZOFFSETFROM:-0700
TZOFFSETTO:-0800
TZNAME:PST
END:STANDARD
END:VTIMEZONE
END:VCALENDAR