BEGIN:VCALENDAR
VERSION:2.0
PRODID:-//wp-events-plugin.com//7.2.3.1//EN
TZID:America/Los_Angeles
X-WR-TIMEZONE:America/Los_Angeles
BEGIN:VEVENT
UID:607@theexiles.org
DTSTART;TZID=America/Los_Angeles:20200117T193000
DTEND;TZID=America/Los_Angeles:20200117T223000
DTSTAMP:20200115T001613Z
URL:https://theexiles.org/events/monthly-program-hanky-code-2020-01-17/
SUMMARY:January Program: Flagging\, and the Hanky Code\, with Shilo (new lo
 cation!)
DESCRIPTION:Ready\, set\, flirt! Get up to date and on-board with your flag
 ging skills in this fun and interactive workshop designed to expand partic
 ipants’ understanding and use of hankies in their own practice and play.
  This workshop will cover flagging techniques throughout history\, includi
 ng the Hanky Code\, and the ways the Code has evolved and changed over tim
 e.\n\nNOTE: new location for the meeting.
CATEGORIES:Program,Programs 2020
LOCATION:SF LGBT Center\, 1800 Market St\, San Francisco\, CA\, 94102\, Uni
 ted States
GEO:37.771736;-122.424118
X-APPLE-STRUCTURED-LOCATION;VALUE=URI;X-ADDRESS=1800 Market St\, San Franci
 sco\, CA\, 94102\, United States;X-APPLE-RADIUS=100;X-TITLE=SF LGBT Center
 :geo:37.771736,-122.424118
END:VEVENT
BEGIN:VTIMEZONE
TZID:America/Los_Angeles
X-LIC-LOCATION:America/Los_Angeles
BEGIN:STANDARD
DTSTART:20191103T010000
TZOFFSETFROM:-0700
TZOFFSETTO:-0800
TZNAME:PST
END:STANDARD
END:VTIMEZONE
END:VCALENDAR