BEGIN:VCALENDAR
VERSION:2.0
PRODID:-//wp-events-plugin.com//7.2.3.1//EN
TZID:America/Los_Angeles
X-WR-TIMEZONE:America/Los_Angeles
BEGIN:VEVENT
UID:250@theexiles.org
DTSTART;TZID=America/Los_Angeles:20180504T213000
DTEND;TZID=America/Los_Angeles:20180504T233000
DTSTAMP:20180314T032831Z
URL:https://theexiles.org/events/imsl-champagne-and-chocolate-reception/
SUMMARY:NWLC Champagne and Chocolate Reception
DESCRIPTION:Our signature event!\n&nbsp\;\n\n\n\nThe Exiles hosts a Hospita
 lity Suite at the Northwest Leather Celebration weekend every year\, featu
 ring champagne and other bubbly treats and yummy chocolates. We always nee
 d volunteers to help out\, and encourage attendance by all Exiles members 
 attending the conference.\n\nContact cocos (at) theexiles (dot) org to fin
 d out more or to volunteer. Working this event can contribute to you quali
 fying for an Exiles patch! \n\n&nbsp\;\n\n
CATEGORIES:Partner Events
LOCATION:Doubletree by Hilton\, 2001 West Point Way\, Sacramento\, CA\, Uni
 ted States
GEO:38.6011585;-121.43305429999998
X-APPLE-STRUCTURED-LOCATION;VALUE=URI;X-ADDRESS=2001 West Point Way\, Sacra
 mento\, CA\, United States;X-APPLE-RADIUS=100;X-TITLE=Doubletree by Hilton
 :geo:38.6011585,-121.43305429999998
END:VEVENT
BEGIN:VTIMEZONE
TZID:America/Los_Angeles
X-LIC-LOCATION:America/Los_Angeles
BEGIN:DAYLIGHT
DTSTART:20180311T030000
TZOFFSETFROM:-0800
TZOFFSETTO:-0700
TZNAME:PDT
END:DAYLIGHT
END:VTIMEZONE
END:VCALENDAR