BEGIN:VCALENDAR
VERSION:2.0
PRODID:-//wp-events-plugin.com//7.2.3.1//EN
TZID:America/Los_Angeles
X-WR-TIMEZONE:America/Los_Angeles
BEGIN:VEVENT
UID:433@theexiles.org
DTSTART;TZID=America/Los_Angeles;VALUE=DATE:20171017
DTEND;TZID=America/Los_Angeles;VALUE=DATE:20171018
DTSTAMP:20171018T161450Z
URL:https://theexiles.org/events/help-support-catalyst/
SUMMARY:Help Support Catalyst
DESCRIPTION:As some of you know\, the Catalyst dungeon is being run by the 
 SF Bay Area Leather Alliance. They are trying to make it a true community 
 space for all of us. At this time\, however\, there isn’t quite enough a
 ctivity to cover operating costs. To help keep this space going\, consider
  donating whatever you can to help out\, or booking the space.\nTo back th
 is venture\, and also to find out about upcoming activities at Catalyst\, 
 please visit the Indiegogo site:\nHelp Keep Leather Alive in SOMA\n\nYou c
 an find more info on Catalyst at their website:\n\nCatalyst\n\nThank you!
CATEGORIES:Partner Events
LOCATION:Catalyst\, 1060 Folsom\, San Francisco\, California\, 94103\, Unit
 ed States
GEO:37.7776242;-122.40721759999997
X-APPLE-STRUCTURED-LOCATION;VALUE=URI;X-ADDRESS=1060 Folsom\, San Francisco
 \, California\, 94103\, United States;X-APPLE-RADIUS=100;X-TITLE=Catalyst:
 geo:37.7776242,-122.40721759999997
END:VEVENT
BEGIN:VTIMEZONE
TZID:America/Los_Angeles
X-LIC-LOCATION:America/Los_Angeles
BEGIN:DAYLIGHT
DTSTART:20170312T030000
TZOFFSETFROM:-0800
TZOFFSETTO:-0700
TZNAME:PDT
END:DAYLIGHT
END:VTIMEZONE
END:VCALENDAR