BEGIN:VCALENDAR
VERSION:2.0
PRODID:-//wp-events-plugin.com//7.2.3.1//EN
TZID:America/Los_Angeles
X-WR-TIMEZONE:America/Los_Angeles
BEGIN:VEVENT
UID:67@theexiles.org
DTSTART;TZID=America/Los_Angeles:20141207T140000
DTEND;TZID=America/Los_Angeles:20141207T160000
DTSTAMP:20141207T090608Z
URL:https://theexiles.org/events/exiles-orientation-december-2014/
SUMMARY:BDSM 101 - December 2014
DESCRIPTION:Please note changed location! This class is a requirement to be
 come an Exiles member.\n\nThis is an interactive class.  The material is 
 presented in skit format.  This is not a class to learn how to do everyth
 ing! This is a BDSM 101 class.  Class provides basic safety and community
  information.\n\nCost: $10 non-members (and receive a pass to a future pro
 gram)\; *free* for members.  Open to women\, and those who identify as "o
 ther than male"\, 18+
CATEGORIES:Orientation
LOCATION:White Horse\, 6551 Telegraph Ave\, Oakland\, CA\, 94609\, United S
 tates
GEO:37.8518467;-122.26056640000002
X-APPLE-STRUCTURED-LOCATION;VALUE=URI;X-ADDRESS=6551 Telegraph Ave\, Oaklan
 d\, CA\, 94609\, United States;X-APPLE-RADIUS=100;X-TITLE=White Horse:geo:
 37.8518467,-122.26056640000002
END:VEVENT
BEGIN:VTIMEZONE
TZID:America/Los_Angeles
X-LIC-LOCATION:America/Los_Angeles
BEGIN:STANDARD
DTSTART:20141102T010000
TZOFFSETFROM:-0700
TZOFFSETTO:-0800
TZNAME:PST
END:STANDARD
END:VTIMEZONE
END:VCALENDAR