BEGIN:VCALENDAR
VERSION:2.0
PRODID:-//wp-events-plugin.com//7.2.3.1//EN
TZID:America/Los_Angeles
X-WR-TIMEZONE:America/Los_Angeles
BEGIN:VEVENT
UID:1797@theexiles.org
DTSTART;TZID=America/Los_Angeles:20260325T183000
DTEND;TZID=America/Los_Angeles:20260325T200000
DTSTAMP:20260310T231930Z
URL:https://theexiles.org/events/exiles-in-person-munch/
SUMMARY:Exiles' In-Person Munch
DESCRIPTION:Casual Social Hangout
ATTACH;FMTTYPE=image/jpeg:https://theexiles.org/wp-content/uploads/SQ-In-P
 erson-Munch-1080-x-1080-px-Custom.png
CATEGORIES:Munch
LOCATION:Cactus Taqueria\, 5640 College Ave\, Oakland\, CA\, 94618-1541\, U
 nited States
X-APPLE-STRUCTURED-LOCATION;VALUE=URI;X-ADDRESS=5640 College Ave\, Oakland\
 , CA\, 94618-1541\, United States;X-APPLE-RADIUS=100;X-TITLE=Cactus Taquer
 ia:geo:0,0
END:VEVENT
BEGIN:VTIMEZONE
TZID:America/Los_Angeles
X-LIC-LOCATION:America/Los_Angeles
BEGIN:DAYLIGHT
DTSTART:20260308T030000
TZOFFSETFROM:-0800
TZOFFSETTO:-0700
TZNAME:PDT
END:DAYLIGHT
END:VTIMEZONE
END:VCALENDAR