BEGIN:VCALENDAR
VERSION:2.0
PRODID:-//wp-events-plugin.com//7.2.3.1//EN
TZID:America/Los_Angeles
X-WR-TIMEZONE:America/Los_Angeles
BEGIN:VEVENT
UID:93@theexiles.org
DTSTART;TZID=America/Los_Angeles:20150614T170000
DTEND;TZID=America/Los_Angeles:20150614T190000
DTSTAMP:20150504T155823Z
URL:https://theexiles.org/events/exiles-business-meeting-june-2015/
SUMMARY:Exiles Business Meeting - June 2015
DESCRIPTION:
CATEGORIES:Business Meeting
LOCATION:Alchemy\, 1060 Folsom Street\, San Francisco\, CA\, 94103\, United
  States
GEO:37.7775752;-122.40716980000002
X-APPLE-STRUCTURED-LOCATION;VALUE=URI;X-ADDRESS=1060 Folsom Street\, San Fr
 ancisco\, CA\, 94103\, United States;X-APPLE-RADIUS=100;X-TITLE=Alchemy:ge
 o:37.7775752,-122.40716980000002
END:VEVENT
BEGIN:VTIMEZONE
TZID:America/Los_Angeles
X-LIC-LOCATION:America/Los_Angeles
BEGIN:DAYLIGHT
DTSTART:20150308T030000
TZOFFSETFROM:-0800
TZOFFSETTO:-0700
TZNAME:PDT
END:DAYLIGHT
END:VTIMEZONE
END:VCALENDAR