BEGIN:VCALENDAR
VERSION:2.0
PRODID:-//wp-events-plugin.com//7.2.3.1//EN
TZID:America/Los_Angeles
X-WR-TIMEZONE:America/Los_Angeles
BEGIN:VEVENT
UID:730@theexiles.org
DTSTART;TZID=America/Los_Angeles:20200802T170000
DTEND;TZID=America/Los_Angeles:20200802T190000
DTSTAMP:20200812T225428Z
URL:https://theexiles.org/events/business-meeting/
SUMMARY:Business Meeting
DESCRIPTION:Exiles business meeting are held every month (usually the first
  Sunday unless it falls on a holiday). All members are urged to join us an
 d welcomed when they do!
CATEGORIES:Business Meeting
LOCATION:Zoom\, n/a\, virtual\, United States
X-APPLE-STRUCTURED-LOCATION;VALUE=URI;X-ADDRESS=n/a\, virtual\, United Stat
 es;X-APPLE-RADIUS=100;X-TITLE=Zoom:geo:0,0
END:VEVENT
BEGIN:VTIMEZONE
TZID:America/Los_Angeles
X-LIC-LOCATION:America/Los_Angeles
BEGIN:DAYLIGHT
DTSTART:20200308T030000
TZOFFSETFROM:-0800
TZOFFSETTO:-0700
TZNAME:PDT
END:DAYLIGHT
END:VTIMEZONE
END:VCALENDAR