BEGIN:VCALENDAR
VERSION:2.0
PRODID:-//wp-events-plugin.com//7.2.3.1//EN
TZID:America/Los_Angeles
X-WR-TIMEZONE:America/Los_Angeles
BEGIN:VEVENT
UID:476@theexiles.org
DTSTART;TZID=America/Los_Angeles:20180507T170000
DTEND;TZID=America/Los_Angeles:20180507T190000
DTSTAMP:20180519T192925Z
URL:https://theexiles.org/events/business-meeting-special-location/
SUMMARY:Business Meeting - SPECIAL LOCATION
DESCRIPTION:\n\nThis month's business meeting will be held both at NWLC and
  remotely via conference call. The agenda is here. (Hardcopies will be ava
 ilable at NWLC\; all others should follow along online or print themselves
 .)\n\nAt NWLC\, we will meet in Judith's room. She will email the biz list
  with her room number by Friday or Saturday\, so check your email.\n\nTo a
 ttend the conference call remotely\, do the following:\n\n 	Call 1-650-479
 -3208\n 	When asked for the meeting ID/Access Code\, enter 928 331 861.\n 
 	If asked for an attendee ID\, just hit the # key\n\n&nbsp\;\n\nAll member
 s are urged to join us and welcomed when they do! If you need more informa
 tion about this meeting\, please contact pat@theexiles.org.\n\nBusiness me
 etings are open to all members. What happens at business meetings?\n\n 	Al
 l members are urged to participate in discussions\n 	We plan great kinky e
 vents\n 	We participate in the running of the organization\n 	After attend
 ing two of the previous four meetings\, attendees may make motions and vot
 e.\n 	Even if you don't yet have voting rights\, your opinions always matt
 er\n 	Officers report on what is happening\n
CATEGORIES:Business Meeting
END:VEVENT
BEGIN:VTIMEZONE
TZID:America/Los_Angeles
X-LIC-LOCATION:America/Los_Angeles
BEGIN:DAYLIGHT
DTSTART:20180311T030000
TZOFFSETFROM:-0800
TZOFFSETTO:-0700
TZNAME:PDT
END:DAYLIGHT
END:VTIMEZONE
END:VCALENDAR