BEGIN:VCALENDAR
VERSION:2.0
PRODID:-//wp-events-plugin.com//7.2.3.1//EN
TZID:America/Los_Angeles
X-WR-TIMEZONE:America/Los_Angeles
BEGIN:VEVENT
UID:326@theexiles.org
DTSTART;TZID=America/Los_Angeles:20170507T170000
DTEND;TZID=America/Los_Angeles:20170507T190000
DTSTAMP:20170406T051712Z
URL:https://theexiles.org/events/business-meeting-san-francisco-2017-05-07
 /
SUMMARY:Business Meeting - Conf Call and at NWLC in Sacramento (LOCATION CH
 ANGE)
DESCRIPTION:Several of us will be meeting at the new and improved Northwest
  Leather Celebration\, which will be held in Sacramento this year. Check b
 ack for the exact location within the hotel.\n\nIf you are not attending a
 t the conference and you are a member and want to attend the business meet
 ing\, you will need to do the following:\n\n 	Get a copy of the Agenda\, e
 ither viewing online during the meeting\, or get a printout. It will be av
 ailable on Google Docs a day or two before the meeting.\n 	Read the Apri
 l meeting minutes before the meeting\, so you can vote on approving the mi
 nutes.\n 	Review the action items in advance of the meeting.\n 	Join the m
 eeting on the conference call. To join:\n\n 	Call in:\n1-650-479-3208 Call
 -in number\n1-877-668-4493 Call-in toll-free number\n 	Enter the meeting I
 D/Access Code: 921 649 338\n\n\n\n(If you have trouble accessing any of t
 he links above\, contact website@theexiles.org)\n\nExiles business meeting
  are held every month (usually the first Sunday unless it falls on a holid
 ay) from 5pm-7pm. The location usually alternates between San Francisco an
 d Oakland. All members are urged to join us and welcomed when they do!\n\n
 Business meetings are open to all members. What happens at business meetin
 gs?\n\n 	All members are urged to participate in discussions\n 	We plan gr
 eat kinky events\n 	We participate in the running of the organization\n 	A
 fter attending two of the previous four meetings\, attendees may make moti
 ons and vote.\n 	Even if you don't yet have voting rights\, your opinions 
 always matter\n 	Officers report on what is happening\n
CATEGORIES:Business Meeting
LOCATION:Doubletree Hotel in Sacramento\,  2001 Point W Way \, Sacramento\,
  CA\, United States
GEO:38.6010834;-121.43305020000003
X-APPLE-STRUCTURED-LOCATION;VALUE=URI;X-ADDRESS= 2001 Point W Way \, Sacram
 ento\, CA\, United States;X-APPLE-RADIUS=100;X-TITLE=Doubletree Hotel in S
 acramento:geo:38.6010834,-121.43305020000003
END:VEVENT
BEGIN:VTIMEZONE
TZID:America/Los_Angeles
X-LIC-LOCATION:America/Los_Angeles
BEGIN:DAYLIGHT
DTSTART:20170312T030000
TZOFFSETFROM:-0800
TZOFFSETTO:-0700
TZNAME:PDT
END:DAYLIGHT
END:VTIMEZONE
END:VCALENDAR